BEGIN:VCALENDAR
VERSION:2.0
PRODID:-//wp-events-plugin.com//7.2.3.1//EN
TZID:Europe/Berlin
X-WR-TIMEZONE:Europe/Berlin
BEGIN:VEVENT
UID:9@detmolder-vokalensemble.de
DTSTART;TZID=Europe/Berlin:20261213T143000
DTEND;TZID=Europe/Berlin:20261213T151500
DTSTAMP:20260318T181518Z
URL:https://www.detmolder-vokalensemble.de/Konzerte/dalheimer-advent/
SUMMARY:Dalheimer Advent
DESCRIPTION:Eine gute Tradition: Das Detmolder Vokalensemble singt auch 202
 6 wieder in kleiner Besetzung in der Klosterkirche Dalheim im Rahmen des D
 alheimer Advents. Die besondere Akustik und die intime Atmosphäre sind f
 ür die Ensemblemitglieder und die Zuhörenden gleichermaßen eine wunderb
 are Einstimmung auf die Advents- und Weihnachtszeit.
ATTACH;FMTTYPE=image/jpeg:https://www.detmolder-vokalensemble.de/wp-conten
 t/uploads/2024/11/51.png
CATEGORIES:Konzerte,Konzerte des Detmolder Vokalensembles
LOCATION:Kloster Dalheim\, Am Kloster 3\, Lichtenau\, 33165\, Deutschland
X-APPLE-STRUCTURED-LOCATION;VALUE=URI;X-ADDRESS=Am Kloster 3\, Lichtenau\, 
 33165\, Deutschland;X-APPLE-RADIUS=100;X-TITLE=Kloster Dalheim:geo:0,0
END:VEVENT
BEGIN:VTIMEZONE
TZID:Europe/Berlin
X-LIC-LOCATION:Europe/Berlin
BEGIN:STANDARD
DTSTART:20261025T020000
TZOFFSETFROM:+0200
TZOFFSETTO:+0100
TZNAME:CET
END:STANDARD
END:VTIMEZONE
END:VCALENDAR