BEGIN:VCALENDAR
VERSION:2.0
PRODID:-//wp-events-plugin.com//7.2.3.1//EN
TZID:Europe/Berlin
X-WR-TIMEZONE:Europe/Berlin
BEGIN:VEVENT
UID:11@detmolder-vokalensemble.de
DTSTART;TZID=Europe/Berlin:20261129T170000
DTEND;TZID=Europe/Berlin:20261129T180000
DTSTAMP:20260322T192615Z
URL:https://www.detmolder-vokalensemble.de/Konzerte/konzert-zum-advent/
SUMMARY:Konzert zum Advent
DESCRIPTION:Werke für Frauenchor und Adventslieder zum Mitsingen\nCordula 
 Clemens\, Flöte\nFrauenstimmen des Detmolder Vokalensembles\n\nLeitung un
 d Klavier: Andrea Schwager\n\nEintritt frei - Spenden am Ausgang erbeten
ATTACH;FMTTYPE=image/jpeg:https://www.detmolder-vokalensemble.de/wp-conten
 t/uploads/2026/03/FrauenchorDVE-e1774207532507.png
CATEGORIES:Konzerte,Konzerte des Detmolder Vokalensembles
LOCATION:Peter-und-Pauls-Kirche Bielefeld-Heepen\, Heeper Straße 437\, Bie
 lefeld\, 33719\, Deutschland
X-APPLE-STRUCTURED-LOCATION;VALUE=URI;X-ADDRESS=Heeper Straße 437\, Bielef
 eld\, 33719\, Deutschland;X-APPLE-RADIUS=100;X-TITLE=Peter-und-Pauls-Kirch
 e Bielefeld-Heepen:geo:0,0
END:VEVENT
BEGIN:VTIMEZONE
TZID:Europe/Berlin
X-LIC-LOCATION:Europe/Berlin
BEGIN:STANDARD
DTSTART:20261025T020000
TZOFFSETFROM:+0200
TZOFFSETTO:+0100
TZNAME:CET
END:STANDARD
END:VTIMEZONE
END:VCALENDAR