BEGIN:VCALENDAR
VERSION:2.0
PRODID:-//wp-events-plugin.com//7.2.3.1//EN
TZID:Europe/Berlin
X-WR-TIMEZONE:Europe/Berlin
BEGIN:VEVENT
UID:5@detmolder-vokalensemble.de
DTSTART;TZID=Europe/Berlin:20260913T170000
DTEND;TZID=Europe/Berlin:20260913T180000
DTSTAMP:20260313T071830Z
URL:https://www.detmolder-vokalensemble.de/Konzerte/liebster-jesu-mein-ver
 langen/
SUMMARY:Liebster Jesu\, mein Verlangen
DESCRIPTION:Musikalische Vesper in der Christuskirche Detmold\nIm Mittelpun
 kt des Vespergottesdienstes steht die Bachkantate BWV 32 „Lieber  Jesu\
 , mein Verlangen“ für Sopran\, Bass\, Oboe\, Streicher und Bc. Ferner e
 rklingt das Duett „Lobe den Herren\, meiner Seele“ von Andreas Hammers
 chmidt für Sopran\, Bass\, 2 Violinen und Bc.\n\nNeben den Instrumentalis
 ten wirken die beiden Mitglieder des Detmolder Vokalensembles Ariane Möll
 er\, (Sopran) und Volker Perret (Bass) solistisch mit. Die Predigt hält P
 rof. Dr. med. Fred Salomon\, Lemgo. Die musikalische Leitung hat KMD Burkh
 ard Geweke.
ATTACH;FMTTYPE=image/jpeg:https://www.detmolder-vokalensemble.de/wp-conten
 t/uploads/2026/03/Bachsiegel.svg.png
CATEGORIES:externe Konzertempfehlungen
LOCATION:Christuskirche Detmold\, Bismarckstr. 16\, Detmold\, 32756\, Deuts
 chland
X-APPLE-STRUCTURED-LOCATION;VALUE=URI;X-ADDRESS=Bismarckstr. 16\, Detmold\,
  32756\, Deutschland;X-APPLE-RADIUS=100;X-TITLE=Christuskirche Detmold:geo
 :0,0
END:VEVENT
BEGIN:VTIMEZONE
TZID:Europe/Berlin
X-LIC-LOCATION:Europe/Berlin
BEGIN:DAYLIGHT
DTSTART:20260329T030000
TZOFFSETFROM:+0100
TZOFFSETTO:+0200
TZNAME:CEST
END:DAYLIGHT
END:VTIMEZONE
END:VCALENDAR