BEGIN:VCALENDAR
VERSION:2.0
PRODID:-//wp-events-plugin.com//7.2.3.1//EN
TZID:Europe/Berlin
X-WR-TIMEZONE:Europe/Berlin
BEGIN:VEVENT
UID:10@detmolder-vokalensemble.de
DTSTART;TZID=Europe/Berlin:20270110T170000
DTEND;TZID=Europe/Berlin:20270110T180000
DTSTAMP:20260318T183152Z
URL:https://www.detmolder-vokalensemble.de/Konzerte/nachweihnachtliches-ko
 nzert/
SUMMARY:Nachweihnachtliches Konzert
DESCRIPTION:In kleiner Besetzung.
ATTACH;FMTTYPE=image/jpeg:https://www.detmolder-vokalensemble.de/wp-conten
 t/uploads/2024/01/8.png
CATEGORIES:Konzerte,Konzerte des Detmolder Vokalensembles
LOCATION:Heilig-Geist-Kirche Bielefeld-Dornberg\, Spandauer Allee 48\, Biel
 efeld\, 33619\, Deutschland
X-APPLE-STRUCTURED-LOCATION;VALUE=URI;X-ADDRESS=Spandauer Allee 48\, Bielef
 eld\, 33619\, Deutschland;X-APPLE-RADIUS=100;X-TITLE=Heilig-Geist-Kirche B
 ielefeld-Dornberg:geo:0,0
END:VEVENT
BEGIN:VTIMEZONE
TZID:Europe/Berlin
X-LIC-LOCATION:Europe/Berlin
BEGIN:STANDARD
DTSTART:20261025T020000
TZOFFSETFROM:+0200
TZOFFSETTO:+0100
TZNAME:CET
END:STANDARD
END:VTIMEZONE
END:VCALENDAR