BEGIN:VCALENDAR
VERSION:2.0
PRODID:-//wp-events-plugin.com//7.2.3.1//EN
TZID:Europe/Berlin
X-WR-TIMEZONE:Europe/Berlin
BEGIN:VEVENT
UID:4@detmolder-vokalensemble.de
DTSTART;TZID=Europe/Berlin:20261011T170000
DTEND;TZID=Europe/Berlin:20261011T180000
DTSTAMP:20260322T185317Z
URL:https://www.detmolder-vokalensemble.de/Konzerte/oeffne-meine-augen-cho
 rkonzert/
SUMMARY:„Öffne meine Augen“ – Chorkonzert
DESCRIPTION:„Öffne meine Augen“ – Chorkonzert mit Werken von J. S. B
 ach (Motette „Lobet den Herrn\, alle Heiden“ )\, C. V. Stanford\, R. V
 aughan Williams ("The lark ascending") u.a.\nMitwirkende:\nSimone Gisinger
 -Hirn (Violine)\nLarissa Blechmann (Orgel)\nDetmolder Vokalensemble\nLeitu
 ng: Andrea Schwager\nEintritt frei - Spenden am Ausgang erbeten\n\n\nIm Ze
 ntrum des Chorkonzertes „Öffne meine Augen“ steht die Motette „Lobe
 t den Herrn\, alle Heiden“ von Johann Sebastian Bach.\nSie ist ein hochv
 irtuoses Werk\, ein Lobgesang von unbändiger Lebensfreude.. Bach hat dari
 n nur zwei Verse des 117. Psalms vertont: „Lobet den Herrn\, alle Heiden
 \, und preiset ihn\, alle Völker! Denn seine Gnade und Wahrheit waltet ü
 ber uns in Ewigkeit. Halleluja!“ und damit ein Meisterwerk der Motettenk
 unst geschaffen. In ihrer Komplexität\, vornehmlich bestimmt durch ihre v
 irtuosen\, aus der Instrumentalmusik stammenden Koloraturen stellt sie ein
 e große Herausforderung für alle Chöre dar. Das gilt insbesondere für 
 das abschließende "Halleluja"\, das sich fast vor überschwänglicher Hoc
 hstimmung überschlägt.\nAls Kontrast dazu erklingen Werke aus dem 20. Ja
 hrhundert\, so „The lark ascending“ („Die aufsteigende Lerche“) vo
 n Ralph Vaughan Williams. Dieses Werk entstand 1914 für Solo-Violine und 
 Streichorchester\, in diesem Konzert wird eine klangschöne Version für S
 olo-Violine und Chor musiziert.\nSo stellt das Konzertprogramm zum einen d
 ie Schönheit der Natur\, aber auch den Lobpreis Gottes in den Mittelpunkt
 \, und gibt Hoffnung\, die Zuversicht auf Gott zu setzen.\n\nMit Simone Gi
 singer-Hirn (Violine) verbindet Andrea Schwager eine lange künstlerische 
 Zusammenarbeit. 2018 gründeten sie gemeinsam das Westfälische BarockCons
 ort\, ein Instrumental-Ensemble für Alte Musik. Larissa Blechmann (Orgel)
  ist dem Detmolder Vokalensemble ebenfalls durch viele Konzerte verbunden.
  Sie ist Kirchenmusikerin und Kantorin in Ahlen.
ATTACH;FMTTYPE=image/jpeg:https://www.detmolder-vokalensemble.de/wp-conten
 t/uploads/2026/02/Insta5Dez23-4.png
CATEGORIES:Konzerte des Detmolder Vokalensembles
LOCATION:Matthäuskirche Gütersloh\, Auf der Haar 64\, Gütersloh\, NRW\, 
 33332\, Deutschland
X-APPLE-STRUCTURED-LOCATION;VALUE=URI;X-ADDRESS=Auf der Haar 64\, Güterslo
 h\, NRW\, 33332\, Deutschland;X-APPLE-RADIUS=100;X-TITLE=Matthäuskirche G
 ütersloh:geo:0,0
END:VEVENT
BEGIN:VTIMEZONE
TZID:Europe/Berlin
X-LIC-LOCATION:Europe/Berlin
BEGIN:DAYLIGHT
DTSTART:20260329T030000
TZOFFSETFROM:+0100
TZOFFSETTO:+0200
TZNAME:CEST
END:DAYLIGHT
END:VTIMEZONE
END:VCALENDAR