BEGIN:VCALENDAR
VERSION:2.0
PRODID:-//wp-events-plugin.com//7.2.3.1//EN
TZID:Europe/Berlin
X-WR-TIMEZONE:Europe/Berlin
BEGIN:VEVENT
UID:6@detmolder-vokalensemble.de
DTSTART;TZID=Europe/Berlin:20260321T180000
DTEND;TZID=Europe/Berlin:20260321T190000
DTSTAMP:20260312T204902Z
URL:https://www.detmolder-vokalensemble.de/Konzerte/passionskonzert-hebe-d
 eine-augen-auf/
SUMMARY:Passionskonzert "Hebe deine Augen auf"
DESCRIPTION:Geistliche Gesänge in Arien - Duette - Terzette\nWerke von Bac
 h\, Pergolesi\, Mendelssohn\, Rossini\, Fauré\, Bizet\, Dvorák u.a.\n\nA
 usführende:\nDorata Dorbrolinska-Struck\, Sopran\nAriane Möller\, Sopran
 \nJulia Fercho\, Alt\nAnna Mikolon\, Klavier
ATTACH;FMTTYPE=image/jpeg:https://www.detmolder-vokalensemble.de/wp-conten
 t/uploads/2026/03/PassionskonzertHuellhorstMindenBueckeburg26.png
CATEGORIES:externe Konzertempfehlungen,Konzerte
LOCATION:Andreaskirche Hüllhorst\, Alte Straße 3\, Hüllhorst\, 32609\, D
 eutschland
X-APPLE-STRUCTURED-LOCATION;VALUE=URI;X-ADDRESS=Alte Straße 3\, Hüllhorst
 \, 32609\, Deutschland;X-APPLE-RADIUS=100;X-TITLE=Andreaskirche Hüllhorst
 :geo:0,0
END:VEVENT
BEGIN:VTIMEZONE
TZID:Europe/Berlin
X-LIC-LOCATION:Europe/Berlin
BEGIN:STANDARD
DTSTART:20251026T020000
TZOFFSETFROM:+0200
TZOFFSETTO:+0100
TZNAME:CET
END:STANDARD
END:VTIMEZONE
END:VCALENDAR